BEGIN:VCALENDAR
VERSION:2.0
PRODID:-//The Hub  - ECPv6.15.20//NONSGML v1.0//EN
CALSCALE:GREGORIAN
METHOD:PUBLISH
X-ORIGINAL-URL:https://wadistricts.us
X-WR-CALDESC:Events for The Hub 
REFRESH-INTERVAL;VALUE=DURATION:PT1H
X-Robots-Tag:noindex
X-PUBLISHED-TTL:PT1H
BEGIN:VTIMEZONE
TZID:America/Los_Angeles
BEGIN:DAYLIGHT
TZOFFSETFROM:-0800
TZOFFSETTO:-0700
TZNAME:PDT
DTSTART:20210314T100000
END:DAYLIGHT
BEGIN:STANDARD
TZOFFSETFROM:-0700
TZOFFSETTO:-0800
TZNAME:PST
DTSTART:20211107T090000
END:STANDARD
BEGIN:DAYLIGHT
TZOFFSETFROM:-0800
TZOFFSETTO:-0700
TZNAME:PDT
DTSTART:20220313T100000
END:DAYLIGHT
BEGIN:STANDARD
TZOFFSETFROM:-0700
TZOFFSETTO:-0800
TZNAME:PST
DTSTART:20221106T090000
END:STANDARD
BEGIN:DAYLIGHT
TZOFFSETFROM:-0800
TZOFFSETTO:-0700
TZNAME:PDT
DTSTART:20230312T100000
END:DAYLIGHT
BEGIN:STANDARD
TZOFFSETFROM:-0700
TZOFFSETTO:-0800
TZNAME:PST
DTSTART:20231105T090000
END:STANDARD
END:VTIMEZONE
BEGIN:VEVENT
DTSTART;TZID=America/Los_Angeles:20220810T090000
DTEND;TZID=America/Los_Angeles:20220810T100000
DTSTAMP:20260420T030258
CREATED:20220707T215515Z
LAST-MODIFIED:20220707T215515Z
UID:12251-1660122000-1660125600@wadistricts.us
SUMMARY:Harmful Algae Bloom Work Group Meeting
DESCRIPTION:
URL:https://wadistricts.us/event/harmful-algae-bloom-work-group-meeting-2/
CATEGORIES:WACD Committees
END:VEVENT
BEGIN:VEVENT
DTSTART;TZID=America/Los_Angeles:20220815T080000
DTEND;TZID=America/Los_Angeles:20220815T170000
DTSTAMP:20260420T030258
CREATED:20220518T145159Z
LAST-MODIFIED:20220518T145159Z
UID:11984-1660550400-1660582800@wadistricts.us
SUMMARY:CANCELED: WACD Board of Directors meeting
DESCRIPTION:The July 18th and August 15th scheduled Board meetings were canceled by the Board of Directors at their April 15th meeting.
URL:https://wadistricts.us/event/canceled-wacd-board-of-directors-meeting-2/
CATEGORIES:WACD
END:VEVENT
END:VCALENDAR