BEGIN:VCALENDAR
VERSION:2.0
PRODID:-//The Hub  - ECPv6.15.20//NONSGML v1.0//EN
CALSCALE:GREGORIAN
METHOD:PUBLISH
X-WR-CALNAME:The Hub 
X-ORIGINAL-URL:https://wadistricts.us
X-WR-CALDESC:Events for The Hub 
REFRESH-INTERVAL;VALUE=DURATION:PT1H
X-Robots-Tag:noindex
X-PUBLISHED-TTL:PT1H
BEGIN:VTIMEZONE
TZID:America/Los_Angeles
BEGIN:DAYLIGHT
TZOFFSETFROM:-0800
TZOFFSETTO:-0700
TZNAME:PDT
DTSTART:20210314T100000
END:DAYLIGHT
BEGIN:STANDARD
TZOFFSETFROM:-0700
TZOFFSETTO:-0800
TZNAME:PST
DTSTART:20211107T090000
END:STANDARD
BEGIN:DAYLIGHT
TZOFFSETFROM:-0800
TZOFFSETTO:-0700
TZNAME:PDT
DTSTART:20220313T100000
END:DAYLIGHT
BEGIN:STANDARD
TZOFFSETFROM:-0700
TZOFFSETTO:-0800
TZNAME:PST
DTSTART:20221106T090000
END:STANDARD
BEGIN:DAYLIGHT
TZOFFSETFROM:-0800
TZOFFSETTO:-0700
TZNAME:PDT
DTSTART:20230312T100000
END:DAYLIGHT
BEGIN:STANDARD
TZOFFSETFROM:-0700
TZOFFSETTO:-0800
TZNAME:PST
DTSTART:20231105T090000
END:STANDARD
BEGIN:DAYLIGHT
TZOFFSETFROM:-0800
TZOFFSETTO:-0700
TZNAME:PDT
DTSTART:20240310T100000
END:DAYLIGHT
BEGIN:STANDARD
TZOFFSETFROM:-0700
TZOFFSETTO:-0800
TZNAME:PST
DTSTART:20241103T090000
END:STANDARD
END:VTIMEZONE
BEGIN:VEVENT
DTSTART;TZID=America/Los_Angeles:20220321T180000
DTEND;TZID=America/Los_Angeles:20220321T203000
DTSTAMP:20260425T190512
CREATED:20220308T154203Z
LAST-MODIFIED:20220308T154203Z
UID:11353-1647885600-1647894600@wadistricts.us
SUMMARY:WACD Board of Directors
DESCRIPTION:The WACD Board of Directors will be holding a scheduled work session on March 21st starting at 6 PM through the Zoom platform. Visit the Board Meetings page for the most current information. \n 
URL:https://wadistricts.us/event/wacd-board-of-directors-0322/
CATEGORIES:WACD
END:VEVENT
BEGIN:VEVENT
DTSTART;TZID=America/Los_Angeles:20220321T180000
DTEND;TZID=America/Los_Angeles:20220321T203000
DTSTAMP:20260425T190512
CREATED:20220314T234530Z
LAST-MODIFIED:20220314T234530Z
UID:11401-1647885600-1647894600@wadistricts.us
SUMMARY:WACD March Work Session
DESCRIPTION:The WACD Board of Directors will be holding a work session on March 21st. This is a work session where no business will be conducted\, only discussion on the topics listed on the agenda. \n  \nWACD March Work Session \nMarch 21st from 6 – 8:30 PM \nMeeting Materials – https://wacd1.box.com/s/qiunb4eq6a3vy9blaaxvdnwk2m1x781h \nZoom Link – https://us02web.zoom.us/j/82920255743?pwd=Tkh1ZnZNc05uWTRXZ1hudXB1dmxIQT09 \nZoom Number – 253 215 8782 \nMeeting ID: 829 2025 5743#| Passcode: 582357#
URL:https://wadistricts.us/event/wacd-march-work-session/
CATEGORIES:WACD
END:VEVENT
BEGIN:VEVENT
DTSTART;TZID=America/Los_Angeles:20220404T130000
DTEND;TZID=America/Los_Angeles:20220404T150000
DTSTAMP:20260425T190512
CREATED:20220324T175319Z
LAST-MODIFIED:20220324T175319Z
UID:11475-1649077200-1649084400@wadistricts.us
SUMMARY:2022 Legislative Session Review
DESCRIPTION:Join us for an informative meeting and discussion on the 2022 Legislative Session.\nDuring the meeting\, we will explore the bills passed and what they might mean to you. We will also review bills not passed and discuss whether the issues raised in those bills will continue to be discussed in the interim. \nWe will also review the supplemental budget adds. Although we must wait for the Governor to sign the budget\, the budget as passed suggests we might receive a significant boost in several program areas that will benefit district work. Learn what these programs are and how they may benefit the work of your district. \nWHAT: WSCC / WACD 2022 Legislative Session Review \nWHEN: Monday\, April 4 from 1 p.m. – 3 p.m. \nWHO: CD Supervisors and Managers \nWHERE: Zoom https://us02web.zoom.us/j/86368722385?pwd=dUpUM0l3Q0hzZS9VRTlOaklKaUQ2dz09 \nMeeting ID: 863 6872 2385 \nPasscode: 444683
URL:https://wadistricts.us/event/2022-legislative-session-review/
CATEGORIES:Advocacy,Conservation districts,WACD,WSCC
END:VEVENT
BEGIN:VEVENT
DTSTART;TZID=America/Los_Angeles:20220418T180000
DTEND;TZID=America/Los_Angeles:20220418T203000
DTSTAMP:20260425T190512
CREATED:20220308T154402Z
LAST-MODIFIED:20220308T154402Z
UID:11355-1650304800-1650313800@wadistricts.us
SUMMARY:WACD Board of Directors
DESCRIPTION:The WACD Board of Directors will be holding a scheduled business meeting on April 18th starting at 6 PM through the Zoom platform. \nVisit the Board Meetings page for the most current information.
URL:https://wadistricts.us/event/wacd-board-of-directors-0422/
CATEGORIES:WACD
END:VEVENT
BEGIN:VEVENT
DTSTART;TZID=America/Los_Angeles:20220516T180000
DTEND;TZID=America/Los_Angeles:20220516T203000
DTSTAMP:20260425T190512
CREATED:20220414T231315Z
LAST-MODIFIED:20220414T231315Z
UID:11653-1652724000-1652733000@wadistricts.us
SUMMARY:WACD Board of Directors work session
DESCRIPTION:The WACD Board of Directors will be holding a work session on May 16th starting at 6 PM through the Zoom platform. \nVisit the Board Meetings page for the most current information.
URL:https://wadistricts.us/event/wacd-board-of-directors-0516/
CATEGORIES:WACD
END:VEVENT
BEGIN:VEVENT
DTSTART;TZID=America/Los_Angeles:20220620T080000
DTEND;TZID=America/Los_Angeles:20220620T163000
DTSTAMP:20260425T190512
CREATED:20220518T144810Z
LAST-MODIFIED:20220518T144810Z
UID:11978-1655712000-1655742600@wadistricts.us
SUMMARY:WACD Board of Directors meeting
DESCRIPTION:The June 20th board meeting is scheduled to be held as an in-person meeting at the Plant Materials Center in Bow\, WA. A virtual option will be made available. \nThis all-day meeting will be focused on adopting an annual work plan and adopting an annual budget.
URL:https://wadistricts.us/event/wacd-board-of-directors-meeting-4/
CATEGORIES:WACD
END:VEVENT
BEGIN:VEVENT
DTSTART;TZID=America/Los_Angeles:20220713T090000
DTEND;TZID=America/Los_Angeles:20220713T100000
DTSTAMP:20260425T190512
CREATED:20220707T215016Z
LAST-MODIFIED:20220707T215016Z
UID:12247-1657702800-1657706400@wadistricts.us
SUMMARY:Harmful Algae Bloom Work Group Meeting
DESCRIPTION:9:00am – Welcome; Introductions as needed\n9:10am – Discuss potential WACD recommendations for HABs management \n\nConsider what is already being done by state agencies and what gaps/needs exist\nCD role\nResearch?\nOther?\n\n10:00am – Adjourn \nZoom meeting link
URL:https://wadistricts.us/event/harmful-algae-bloom-work-group-meeting/
CATEGORIES:WACD Committees
END:VEVENT
BEGIN:VEVENT
DTSTART;TZID=America/Los_Angeles:20220718T080000
DTEND;TZID=America/Los_Angeles:20220718T170000
DTSTAMP:20260425T190512
CREATED:20220518T145118Z
LAST-MODIFIED:20220518T145118Z
UID:11982-1658131200-1658163600@wadistricts.us
SUMMARY:CANCELED: WACD Board of Directors meeting
DESCRIPTION:The July 18th and August 15th scheduled Board meetings were canceled by the Board of Directors at their April 15th meeting.
URL:https://wadistricts.us/event/canceled-wacd-board-of-directors-meeting/
CATEGORIES:WACD
END:VEVENT
BEGIN:VEVENT
DTSTART;TZID=America/Los_Angeles:20220810T090000
DTEND;TZID=America/Los_Angeles:20220810T100000
DTSTAMP:20260425T190512
CREATED:20220707T215515Z
LAST-MODIFIED:20220707T215515Z
UID:12251-1660122000-1660125600@wadistricts.us
SUMMARY:Harmful Algae Bloom Work Group Meeting
DESCRIPTION:
URL:https://wadistricts.us/event/harmful-algae-bloom-work-group-meeting-2/
CATEGORIES:WACD Committees
END:VEVENT
BEGIN:VEVENT
DTSTART;TZID=America/Los_Angeles:20220815T080000
DTEND;TZID=America/Los_Angeles:20220815T170000
DTSTAMP:20260425T190512
CREATED:20220518T145159Z
LAST-MODIFIED:20220518T145159Z
UID:11984-1660550400-1660582800@wadistricts.us
SUMMARY:CANCELED: WACD Board of Directors meeting
DESCRIPTION:The July 18th and August 15th scheduled Board meetings were canceled by the Board of Directors at their April 15th meeting.
URL:https://wadistricts.us/event/canceled-wacd-board-of-directors-meeting-2/
CATEGORIES:WACD
END:VEVENT
BEGIN:VEVENT
DTSTART;TZID=America/Los_Angeles:20220914T090000
DTEND;TZID=America/Los_Angeles:20220914T100000
DTSTAMP:20260425T190512
CREATED:20220707T215547Z
LAST-MODIFIED:20220707T215547Z
UID:12253-1663146000-1663149600@wadistricts.us
SUMMARY:Harmful Algae Bloom Work Group Meeting
DESCRIPTION:
URL:https://wadistricts.us/event/harmful-algae-bloom-work-group-meeting-3/
CATEGORIES:WACD Committees
END:VEVENT
BEGIN:VEVENT
DTSTART;TZID=America/Los_Angeles:20220919T080000
DTEND;TZID=America/Los_Angeles:20220919T163000
DTSTAMP:20260425T190512
CREATED:20220518T144928Z
LAST-MODIFIED:20220518T144928Z
UID:11980-1663574400-1663605000@wadistricts.us
SUMMARY:WACD Board of Directors meeting
DESCRIPTION:The September 19th meeting will be held virtually.
URL:https://wadistricts.us/event/wacd-board-of-directors-meeting-5/
CATEGORIES:WACD
END:VEVENT
BEGIN:VEVENT
DTSTART;TZID=America/Los_Angeles:20221107T180000
DTEND;TZID=America/Los_Angeles:20221107T200000
DTSTAMP:20260425T190512
CREATED:20221025T000952Z
LAST-MODIFIED:20221028T204814Z
UID:12912-1667844000-1667851200@wadistricts.us
SUMMARY:Committees review resolutions
DESCRIPTION:WACD committees will review assigned resolutions and present one of three recommendations to the membership: \n\nVote to recommend passage\nVote to recommend passage with amendments; or\,\nRecommend Do-Not-Pass\n\nOn Monday\, November 7th\, the Natural Resources Policy Committee will meet at 6:00 pm and the Legislative\, Bylaws\, and District Policies Committee will meet at 7:00 pm. The two committees will hear testimony from the original sponsor district and ask questions. Other interested parties are invited to provide their comments at this time as well. \nPolicy Committee Hearing Zoom Information available – HERE\nMeeting ID: 845 3330 5592\nZoom Number – 253-215-8782 \nOn Thursday\, November 17th\, the two committees will meet again at 6:00 pm (Natural Resources) and at 7:00 pm (Legislative\, Bylaws\, and District Policies) to offer amendments and adopt their recommendations to the remaining resolutions pending. Committee votes are conducted by the committee members present and recommendations require a simple majority vote. \nPolicy Committee Voting Zoom Information available – HERE\nMeeting ID: 871 3770 0601\nZoom Number – 253-215-8782
URL:https://wadistricts.us/event/committees-review-resolutions/
CATEGORIES:WACD Committees
END:VEVENT
BEGIN:VEVENT
DTSTART;TZID=America/Los_Angeles:20221117T180000
DTEND;TZID=America/Los_Angeles:20221117T200000
DTSTAMP:20260425T190512
CREATED:20221025T001030Z
LAST-MODIFIED:20221028T204811Z
UID:12914-1668708000-1668715200@wadistricts.us
SUMMARY:Committees vote on resolutions
DESCRIPTION:WACD committees will review assigned resolutions and present one of three recommendations to the membership: \n\nVote to recommend passage\nVote to recommend passage with amendments; or\,\nRecommend Do-Not-Pass\n\nOn Monday\, November 7th\, the Natural Resources Policy Committee will meet at 6:00 pm and the Legislative\, Bylaws\, and District Policies Committee will meet at 7:00 pm. The two committees will hear testimony from the original sponsor district and ask questions. Other interested parties are invited to provide their comments at this time as well. \nPolicy Committee Hearing Zoom Information available – HERE\nMeeting ID: 845 3330 5592\nZoom Number – 253-215-8782 \nOn Thursday\, November 17th\, the two committees will meet again at 6:00 pm (Natural Resources) and at 7:00 pm (Legislative\, Bylaws\, and District Policies) to offer amendments and adopt their recommendations to the remaining resolutions pending. Committee votes are conducted by the committee members present and recommendations require a simple majority vote. \nPolicy Committee Voting Zoom Information available – HERE\nMeeting ID: 871 3770 0601\nZoom Number – 253-215-8782
URL:https://wadistricts.us/event/committees-vote-on-resolutions/
CATEGORIES:WACD Committees
END:VEVENT
BEGIN:VEVENT
DTSTART;TZID=America/Los_Angeles:20221121T180000
DTEND;TZID=America/Los_Angeles:20221121T200000
DTSTAMP:20260425T190512
CREATED:20221025T001247Z
LAST-MODIFIED:20221025T001247Z
UID:12916-1669053600-1669060800@wadistricts.us
SUMMARY:WACD Board of Directors meeting
DESCRIPTION:On Monday\, November 21st\, the WACD Board of Directors will hold a regular business meeting at 6:00 pm\, at which time the Board will vote on whether to recommend to the membership any proposed bylaws changes. \nMeeting details will be published on the Board Meetings page.
URL:https://wadistricts.us/event/wacd-board-of-directors-meeting-6/
CATEGORIES:WACD
END:VEVENT
BEGIN:VEVENT
DTSTART;VALUE=DATE:20221128
DTEND;VALUE=DATE:20221201
DTSTAMP:20260425T190512
CREATED:20220817T175451Z
LAST-MODIFIED:20221108T193323Z
UID:12438-1669593600-1669852799@wadistricts.us
SUMMARY:WACD 2022 Annual Conference
DESCRIPTION:Please find information about the 2022 WACD Annual Conference and Business Meeting at https://wadistricts.us/annual/2022meetings/conference/.
URL:https://wadistricts.us/event/wacd-annual-conference/
LOCATION:Wenatchee Convention Center\, 121 N Wenatchee Ave\, Wenatchee\, WA\, 98801\, United States
CATEGORIES:WACD
END:VEVENT
BEGIN:VEVENT
DTSTART;TZID=America/Los_Angeles:20221205T180000
DTEND;TZID=America/Los_Angeles:20221205T190000
DTSTAMP:20260425T190512
CREATED:20221122T191427Z
LAST-MODIFIED:20221122T191427Z
UID:13260-1670263200-1670266800@wadistricts.us
SUMMARY:WACD Board Work Session
DESCRIPTION:The WACD Board of Directors will hold a work session on Monday\, December 5\, 2022\, from 6 to 7 pm.
URL:https://wadistricts.us/event/wacd-board-work-session-2/
CATEGORIES:WACD
END:VEVENT
BEGIN:VEVENT
DTSTART;TZID=America/Los_Angeles:20230123T180000
DTEND;TZID=America/Los_Angeles:20230123T200000
DTSTAMP:20260425T190512
CREATED:20221122T221339Z
LAST-MODIFIED:20221122T221339Z
UID:13266-1674496800-1674504000@wadistricts.us
SUMMARY:WACD Board Work Session
DESCRIPTION:The WACD Board of Directors will hold a work session on Monday\, January 23\, 2023 at 6:00 pm.
URL:https://wadistricts.us/event/wacd-board-work-session-3/
CATEGORIES:WACD
END:VEVENT
BEGIN:VEVENT
DTSTART;TZID=America/Los_Angeles:20230227T180000
DTEND;TZID=America/Los_Angeles:20230227T203000
DTSTAMP:20260425T190512
CREATED:20221220T212658Z
LAST-MODIFIED:20221220T212658Z
UID:13417-1677520800-1677529800@wadistricts.us
SUMMARY:WACD Board of Directors Meeting
DESCRIPTION:A scheduled meeting of the WACD Board of Directors. Information on this meeting is available at our dedicated Board of Directors page – https://wadistricts.org/board-of-directors.
URL:https://wadistricts.us/event/wacd-board-of-directors-meeting-7/
CATEGORIES:WACD
END:VEVENT
BEGIN:VEVENT
DTSTART;TZID=America/Los_Angeles:20230320T180000
DTEND;TZID=America/Los_Angeles:20230320T203000
DTSTAMP:20260425T190512
CREATED:20221220T212745Z
LAST-MODIFIED:20221220T212745Z
UID:13419-1679335200-1679344200@wadistricts.us
SUMMARY:WACD Board of Directors Work Session
DESCRIPTION:A scheduled work session of the WACD Board of Directors. Information on this meeting is available at our dedicated Board of Directors page – https://wadistricts.org/board-of-directors.
URL:https://wadistricts.us/event/wacd-board-of-directors-work-session-2/
CATEGORIES:WACD
END:VEVENT
BEGIN:VEVENT
DTSTART;TZID=America/Los_Angeles:20230329T120000
DTEND;TZID=America/Los_Angeles:20230329T123000
DTSTAMP:20260425T190512
CREATED:20230327T225041Z
LAST-MODIFIED:20230327T225206Z
UID:14651-1680091200-1680093000@wadistricts.us
SUMMARY:WACD Special Board Meeting
DESCRIPTION:Notice of Special Meeting  \nWashington Association of Conservation Districts Board of Directors \nWednesday\, March 29th from 12 – 12:30 PM \n  \nZoom: https://us02web.zoom.us/j/82694776606 \nPhone: (253) 205-0468 \nMeeting ID: 826 9477 6606 \n  \nAgenda: \n11:45 open line for callers \n12:00 Commencement of meeting \n12:05 Roll call to determine quorum \n12:10 Authorize Executive Director to purchase certificates of deposit on behalf of WACD \n12:30 Meeting adjourned
URL:https://wadistricts.us/event/wacd-special-board-meeting/
CATEGORIES:WACD
END:VEVENT
BEGIN:VEVENT
DTSTART;TZID=America/Los_Angeles:20230417T180000
DTEND;TZID=America/Los_Angeles:20230417T203000
DTSTAMP:20260425T190512
CREATED:20221220T212826Z
LAST-MODIFIED:20221220T212936Z
UID:13421-1681754400-1681763400@wadistricts.us
SUMMARY:WACD Board of Directors Meeting
DESCRIPTION:A scheduled meeting of the WACD Board of Directors. Information on this meeting is available at our dedicated Board of Directors page – https://wadistricts.org/board-of-directors.
URL:https://wadistricts.us/event/wacd-board-of-directors-meeting-8/
CATEGORIES:WACD
END:VEVENT
BEGIN:VEVENT
DTSTART;TZID=America/Los_Angeles:20230515T180000
DTEND;TZID=America/Los_Angeles:20230515T203000
DTSTAMP:20260425T190512
CREATED:20221220T213018Z
LAST-MODIFIED:20230509T045228Z
UID:13424-1684173600-1684182600@wadistricts.us
SUMMARY:WACD Board of Directors Meeting
DESCRIPTION:A scheduled meeting of the WACD Board of Directors. Information on this meeting is available at our dedicated Board of Directors page – https://wadistricts.org/board-of-directors.
URL:https://wadistricts.us/event/wacd-board-of-directors-work-session-3/
CATEGORIES:WACD
END:VEVENT
BEGIN:VEVENT
DTSTART;TZID=America/Los_Angeles:20230601T120000
DTEND;TZID=America/Los_Angeles:20230601T123000
DTSTAMP:20260425T190512
CREATED:20230525T183948Z
LAST-MODIFIED:20230525T185315Z
UID:14904-1685620800-1685622600@wadistricts.us
SUMMARY:WACD Special Board Meeting
DESCRIPTION:WACD Special Board Meeting\nThursday June 1st starting at 12 PM \nZoom: https://us02web.zoom.us/j/87381039262 \nPhone: (253) 205 0468 \nMeeting ID: 873 8103 9262 \nAgenda\n\nChanging the date and location of the June Board meeting\nWaiving the policy requiring the Finance Committee to submit their budget recommendation three weeks before the Board Meeting.
URL:https://wadistricts.us/event/wacd-special-board-meeting-2/
CATEGORIES:WACD
END:VEVENT
BEGIN:VEVENT
DTSTART;TZID=America/Los_Angeles:20230619T180000
DTEND;TZID=America/Los_Angeles:20230619T203000
DTSTAMP:20260425T190512
CREATED:20221220T213057Z
LAST-MODIFIED:20230617T020557Z
UID:13426-1687197600-1687206600@wadistricts.us
SUMMARY:WACD Board of Directors Meeting
DESCRIPTION:A scheduled meeting of the WACD Board of Directors. Information on this meeting is available at our dedicated Board of Directors page – https://wadistricts.org/board-of-directors.
URL:https://wadistricts.us/event/wacd-board-of-directors-meeting-9/
CATEGORIES:WACD
END:VEVENT
BEGIN:VEVENT
DTSTART;TZID=America/Los_Angeles:20230918T180000
DTEND;TZID=America/Los_Angeles:20230918T203000
DTSTAMP:20260425T190512
CREATED:20221220T213203Z
LAST-MODIFIED:20221220T213203Z
UID:13428-1695060000-1695069000@wadistricts.us
SUMMARY:WACD Board of Directors Meeting
DESCRIPTION:A scheduled meeting of the WACD Board of Directors. Information on this meeting is available at our dedicated Board of Directors page – https://wadistricts.org/board-of-directors.
URL:https://wadistricts.us/event/wacd-board-of-directors-meeting-10/
CATEGORIES:WACD
END:VEVENT
BEGIN:VEVENT
DTSTART;TZID=America/Los_Angeles:20231016T180000
DTEND;TZID=America/Los_Angeles:20231016T203000
DTSTAMP:20260425T190512
CREATED:20221220T213404Z
LAST-MODIFIED:20221220T213404Z
UID:13432-1697479200-1697488200@wadistricts.us
SUMMARY:WACD Board of Directors Meeting
DESCRIPTION:A scheduled work session of the WACD Board of Directors. Information on this meeting is available at our dedicated Board of Directors page – https://wadistricts.org/board-of-directors.
URL:https://wadistricts.us/event/wacd-board-of-directors-meeting-12/
CATEGORIES:WACD
END:VEVENT
BEGIN:VEVENT
DTSTART;TZID=America/Los_Angeles:20231113T180000
DTEND;TZID=America/Los_Angeles:20231113T200000
DTSTAMP:20260425T190512
CREATED:20231108T224203Z
LAST-MODIFIED:20231108T224921Z
UID:15950-1699898400-1699905600@wadistricts.us
SUMMARY:Natural Resource Committee Meeting
DESCRIPTION:The Natural Resource Committee will meet on Monday\, November 13th at 6 p.m. to review the resolutions passed at last month’s Area Meetings. The resolutions can be found here: https://wadistricts.us/annual/2023meetings/conference/#resolutions.\n\nConservation District Managers and Board Chairs from sponsoring districts are cc’d on this email and are encouraged to attend to speak to their resolutions if desired.
URL:https://wadistricts.us/event/natural-resource-committee-meeting/
CATEGORIES:WACD,WACD Committees
END:VEVENT
BEGIN:VEVENT
DTSTART;TZID=America/Los_Angeles:20231114T180000
DTEND;TZID=America/Los_Angeles:20231114T200000
DTSTAMP:20260425T190512
CREATED:20231108T224544Z
LAST-MODIFIED:20231108T224852Z
UID:15953-1699984800-1699992000@wadistricts.us
SUMMARY:Leg.\, By-laws & District Policies Committee Meeting
DESCRIPTION:The Legislative\, By-laws and District Policies Committee will meet on Tuesday\, November 14th at 6 p.m. to review the resolutions passed at last month’s Area Meetings. The resolutions can be found here: https://wadistricts.us/annual/2023meetings/conference/#resolutions. \nConservation District Managers and Board Chairs from sponsoring districts are cc’d on this email and are encouraged to attend to speak to their resolutions if desired.
URL:https://wadistricts.us/event/leg-by-laws-district-policies-committee-meeting/
CATEGORIES:WACD,WACD Committees
END:VEVENT
BEGIN:VEVENT
DTSTART;TZID=America/Los_Angeles:20231120T180000
DTEND;TZID=America/Los_Angeles:20231120T203000
DTSTAMP:20260425T190512
CREATED:20221220T213445Z
LAST-MODIFIED:20221220T213445Z
UID:13434-1700503200-1700512200@wadistricts.us
SUMMARY:WACD Board of Directors Meeting
DESCRIPTION:A scheduled meeting of the WACD Board of Directors. Information on this meeting is available at our dedicated Board of Directors page – https://wadistricts.org/board-of-directors.
URL:https://wadistricts.us/event/wacd-board-of-directors-meeting-13/
CATEGORIES:WACD
END:VEVENT
END:VCALENDAR