BEGIN:VCALENDAR
VERSION:2.0
PRODID:-//The Hub  - ECPv6.15.20//NONSGML v1.0//EN
CALSCALE:GREGORIAN
METHOD:PUBLISH
X-ORIGINAL-URL:https://wadistricts.us
X-WR-CALDESC:Events for The Hub 
REFRESH-INTERVAL;VALUE=DURATION:PT1H
X-Robots-Tag:noindex
X-PUBLISHED-TTL:PT1H
BEGIN:VTIMEZONE
TZID:America/Los_Angeles
BEGIN:DAYLIGHT
TZOFFSETFROM:-0800
TZOFFSETTO:-0700
TZNAME:PDT
DTSTART:20210314T100000
END:DAYLIGHT
BEGIN:STANDARD
TZOFFSETFROM:-0700
TZOFFSETTO:-0800
TZNAME:PST
DTSTART:20211107T090000
END:STANDARD
BEGIN:DAYLIGHT
TZOFFSETFROM:-0800
TZOFFSETTO:-0700
TZNAME:PDT
DTSTART:20220313T100000
END:DAYLIGHT
BEGIN:STANDARD
TZOFFSETFROM:-0700
TZOFFSETTO:-0800
TZNAME:PST
DTSTART:20221106T090000
END:STANDARD
BEGIN:DAYLIGHT
TZOFFSETFROM:-0800
TZOFFSETTO:-0700
TZNAME:PDT
DTSTART:20230312T100000
END:DAYLIGHT
BEGIN:STANDARD
TZOFFSETFROM:-0700
TZOFFSETTO:-0800
TZNAME:PST
DTSTART:20231105T090000
END:STANDARD
END:VTIMEZONE
BEGIN:VEVENT
DTSTART;TZID=America/Los_Angeles:20220718T080000
DTEND;TZID=America/Los_Angeles:20220718T170000
DTSTAMP:20260420T030148
CREATED:20220518T145118Z
LAST-MODIFIED:20220518T145118Z
UID:11982-1658131200-1658163600@wadistricts.us
SUMMARY:CANCELED: WACD Board of Directors meeting
DESCRIPTION:The July 18th and August 15th scheduled Board meetings were canceled by the Board of Directors at their April 15th meeting.
URL:https://wadistricts.us/event/canceled-wacd-board-of-directors-meeting/
CATEGORIES:WACD
END:VEVENT
END:VCALENDAR