BEGIN:VCALENDAR
VERSION:2.0
PRODID:-//The Hub  - ECPv6.15.20//NONSGML v1.0//EN
CALSCALE:GREGORIAN
METHOD:PUBLISH
X-ORIGINAL-URL:https://wadistricts.us
X-WR-CALDESC:Events for The Hub 
REFRESH-INTERVAL;VALUE=DURATION:PT1H
X-Robots-Tag:noindex
X-PUBLISHED-TTL:PT1H
BEGIN:VTIMEZONE
TZID:America/Los_Angeles
BEGIN:DAYLIGHT
TZOFFSETFROM:-0800
TZOFFSETTO:-0700
TZNAME:PDT
DTSTART:20210314T100000
END:DAYLIGHT
BEGIN:STANDARD
TZOFFSETFROM:-0700
TZOFFSETTO:-0800
TZNAME:PST
DTSTART:20211107T090000
END:STANDARD
BEGIN:DAYLIGHT
TZOFFSETFROM:-0800
TZOFFSETTO:-0700
TZNAME:PDT
DTSTART:20220313T100000
END:DAYLIGHT
BEGIN:STANDARD
TZOFFSETFROM:-0700
TZOFFSETTO:-0800
TZNAME:PST
DTSTART:20221106T090000
END:STANDARD
BEGIN:DAYLIGHT
TZOFFSETFROM:-0800
TZOFFSETTO:-0700
TZNAME:PDT
DTSTART:20230312T100000
END:DAYLIGHT
BEGIN:STANDARD
TZOFFSETFROM:-0700
TZOFFSETTO:-0800
TZNAME:PST
DTSTART:20231105T090000
END:STANDARD
END:VTIMEZONE
BEGIN:VEVENT
DTSTART;TZID=America/Los_Angeles:20220713T090000
DTEND;TZID=America/Los_Angeles:20220713T100000
DTSTAMP:20260420T030141
CREATED:20220707T215016Z
LAST-MODIFIED:20220707T215016Z
UID:12247-1657702800-1657706400@wadistricts.us
SUMMARY:Harmful Algae Bloom Work Group Meeting
DESCRIPTION:9:00am – Welcome; Introductions as needed\n9:10am – Discuss potential WACD recommendations for HABs management \n\nConsider what is already being done by state agencies and what gaps/needs exist\nCD role\nResearch?\nOther?\n\n10:00am – Adjourn \nZoom meeting link
URL:https://wadistricts.us/event/harmful-algae-bloom-work-group-meeting/
CATEGORIES:WACD Committees
END:VEVENT
END:VCALENDAR